Package: scTGIF Version: 1.13.0 Command: /home/biocbuild/bbs-3.17-bioc/R/bin/R CMD INSTALL scTGIF StartedAt: 2023-04-12 01:58:16 -0400 (Wed, 12 Apr 2023) EndedAt: 2023-04-12 01:59:14 -0400 (Wed, 12 Apr 2023) EllapsedTime: 57.1 seconds RetCode: 0 Status: OK