Package: scanMiR Version: 1.5.3 Command: /home/biocbuild/bbs-3.17-bioc/R/bin/R CMD build --keep-empty-dirs --no-resave-data scanMiR StartedAt: 2023-04-12 04:02:43 -0400 (Wed, 12 Apr 2023) EndedAt: 2023-04-12 04:03:10 -0400 (Wed, 12 Apr 2023) EllapsedTime: 26.1 seconds RetCode: 0 Status: OK PackageFile: scanMiR_1.5.3.tar.gz PackageFileSize: 621 KiB