Package: scanMiR Version: 1.5.3 Command: /home/biocbuild/bbs-3.17-bioc/R/bin/R CMD check --install=check:scanMiR.install-out.txt --library=/home/biocbuild/bbs-3.17-bioc/R/site-library --timings scanMiR_1.5.3.tar.gz StartedAt: 2023-04-12 09:06:07 -0400 (Wed, 12 Apr 2023) EndedAt: 2023-04-12 09:08:21 -0400 (Wed, 12 Apr 2023) EllapsedTime: 134.3 seconds RetCode: 0 Status: WARNINGS CheckDir: scanMiR.Rcheck Warnings: 1