Package: scde Version: 2.27.0 Command: /home/biocbuild/bbs-3.17-bioc/R/bin/R CMD build --keep-empty-dirs --no-resave-data scde StartedAt: 2023-04-12 04:04:16 -0400 (Wed, 12 Apr 2023) EndedAt: 2023-04-12 04:04:17 -0400 (Wed, 12 Apr 2023) EllapsedTime: 1.0 seconds RetCode: 0 Status: OK PackageFile: scde_2.27.0.tar.gz PackageFileSize: 1.059 MiB