Package: scde Version: 2.27.0 Command: /home/biocbuild/bbs-3.17-bioc/R/bin/R CMD INSTALL scde StartedAt: 2023-04-12 01:57:42 -0400 (Wed, 12 Apr 2023) EndedAt: 2023-04-12 01:58:53 -0400 (Wed, 12 Apr 2023) EllapsedTime: 70.9 seconds RetCode: 0 Status: OK