Package: scone Version: 1.23.1 Command: /home/biocbuild/bbs-3.17-bioc/R/bin/R CMD build --keep-empty-dirs --no-resave-data scone StartedAt: 2023-04-12 04:05:55 -0400 (Wed, 12 Apr 2023) EndedAt: 2023-04-12 04:08:50 -0400 (Wed, 12 Apr 2023) EllapsedTime: 174.5 seconds RetCode: 0 Status: OK PackageFile: scone_1.23.1.tar.gz PackageFileSize: 1.703 MiB