Package: scone Version: 1.23.1 Command: /home/biocbuild/bbs-3.17-bioc/R/bin/R CMD INSTALL scone StartedAt: 2023-04-12 01:54:24 -0400 (Wed, 12 Apr 2023) EndedAt: 2023-04-12 01:55:23 -0400 (Wed, 12 Apr 2023) EllapsedTime: 59.2 seconds RetCode: 0 Status: OK