Package: scry Version: 1.11.1 Command: /home/biocbuild/bbs-3.17-bioc/R/bin/R CMD check --install=check:scry.install-out.txt --library=/home/biocbuild/bbs-3.17-bioc/R/site-library --timings scry_1.11.1.tar.gz StartedAt: 2023-04-12 09:15:42 -0400 (Wed, 12 Apr 2023) EndedAt: 2023-04-12 09:23:28 -0400 (Wed, 12 Apr 2023) EllapsedTime: 465.4 seconds RetCode: 0 Status: OK CheckDir: scry.Rcheck Warnings: 0