Package: seqArchR Version: 1.3.0 Command: /home/biocbuild/bbs-3.17-bioc/R/bin/R CMD build --keep-empty-dirs --no-resave-data seqArchR StartedAt: 2023-04-11 17:57:34 -0400 (Tue, 11 Apr 2023) EndedAt: 2023-04-11 17:58:15 -0400 (Tue, 11 Apr 2023) EllapsedTime: 40.6 seconds RetCode: 0 Status: OK PackageFile: seqArchR_1.3.0.tar.gz PackageFileSize: 4.125 MiB