Package: signatureSearch Version: 1.13.0 Command: /home/biocbuild/bbs-3.17-bioc/R/bin/R CMD INSTALL signatureSearch StartedAt: 2023-04-12 02:05:37 -0400 (Wed, 12 Apr 2023) EndedAt: 2023-04-12 02:07:58 -0400 (Wed, 12 Apr 2023) EllapsedTime: 141.5 seconds RetCode: 0 Status: OK