Package: similaRpeak Version: 1.31.0 Command: /home/biocbuild/bbs-3.17-bioc/R/bin/R CMD INSTALL similaRpeak StartedAt: 2023-04-11 15:01:46 -0400 (Tue, 11 Apr 2023) EndedAt: 2023-04-11 15:01:55 -0400 (Tue, 11 Apr 2023) EllapsedTime: 8.1 seconds RetCode: 0 Status: OK