Package: sizepower Version: 1.69.0 Command: /home/biocbuild/bbs-3.17-bioc/R/bin/R CMD build --keep-empty-dirs --no-resave-data sizepower StartedAt: 2023-04-12 04:13:28 -0400 (Wed, 12 Apr 2023) EndedAt: 2023-04-12 04:13:32 -0400 (Wed, 12 Apr 2023) EllapsedTime: 4.0 seconds RetCode: 0 Status: OK PackageFile: sizepower_1.69.0.tar.gz PackageFileSize: 168.4 KiB