git_url: https://git.bioconductor.org/packages/slingshot git_branch: devel git_last_commit: 3fa552f git_last_commit_date: 2023-03-29 15:36:15 -0400 (Wed, 29 Mar 2023) Package: slingshot Version: 2.7.0 Maintainer: Kelly Street MaintainerEmail: street.kelly at gmail.com