Package: spatialHeatmap Version: 2.5.3 Command: /home/biocbuild/bbs-3.17-bioc/R/bin/R CMD check --install=check:spatialHeatmap.install-out.txt --library=/home/biocbuild/bbs-3.17-bioc/R/site-library --timings spatialHeatmap_2.5.3.tar.gz StartedAt: 2023-04-11 23:46:30 -0400 (Tue, 11 Apr 2023) EndedAt: 2023-04-11 23:57:53 -0400 (Tue, 11 Apr 2023) EllapsedTime: 683.0 seconds RetCode: 0 Status: OK CheckDir: spatialHeatmap.Rcheck Warnings: 0