Package: synapsis Version: 1.5.0 Command: /home/biocbuild/bbs-3.17-bioc/R/bin/R CMD build --keep-empty-dirs --no-resave-data synapsis StartedAt: 2023-04-11 18:10:35 -0400 (Tue, 11 Apr 2023) EndedAt: 2023-04-11 18:11:03 -0400 (Tue, 11 Apr 2023) EllapsedTime: 28.2 seconds RetCode: 0 Status: OK PackageFile: synapsis_1.5.0.tar.gz PackageFileSize: 3.451 MiB