Package: synapsis Version: 1.5.0 Command: /home/biocbuild/bbs-3.17-bioc/R/bin/R CMD check --install=check:synapsis.install-out.txt --library=/home/biocbuild/bbs-3.17-bioc/R/site-library --timings synapsis_1.5.0.tar.gz StartedAt: 2023-04-12 00:01:00 -0400 (Wed, 12 Apr 2023) EndedAt: 2023-04-12 00:01:49 -0400 (Wed, 12 Apr 2023) EllapsedTime: 49.3 seconds RetCode: 0 Status: OK CheckDir: synapsis.Rcheck Warnings: 0