git_url: https://git.bioconductor.org/packages/synapter git_branch: devel git_last_commit: c4dc7ee git_last_commit_date: 2022-11-01 11:07:08 -0400 (Tue, 01 Nov 2022) Package: synapter Version: 2.23.0 Maintainer: Laurent Gatto MaintainerEmail: laurent.gatto at uclouvain.be