Package: synapter Version: 2.23.0 Command: /home/biocbuild/bbs-3.17-bioc/R/bin/R CMD check --install=check:synapter.install-out.txt --library=/home/biocbuild/bbs-3.17-bioc/R/site-library --timings synapter_2.23.0.tar.gz StartedAt: 2023-04-12 09:49:10 -0400 (Wed, 12 Apr 2023) EndedAt: 2023-04-12 09:58:56 -0400 (Wed, 12 Apr 2023) EllapsedTime: 585.7 seconds RetCode: 0 Status: OK CheckDir: synapter.Rcheck Warnings: 0