Package: timecourse Version: 1.71.0 Command: /home/biocbuild/bbs-3.17-bioc/R/bin/R CMD build --keep-empty-dirs --no-resave-data timecourse StartedAt: 2023-04-11 18:13:29 -0400 (Tue, 11 Apr 2023) EndedAt: 2023-04-11 18:13:43 -0400 (Tue, 11 Apr 2023) EllapsedTime: 13.5 seconds RetCode: 0 Status: OK PackageFile: timecourse_1.71.0.tar.gz PackageFileSize: 710.4 KiB