Package: topdownr Version: 1.21.0 Command: /home/biocbuild/bbs-3.17-bioc/R/bin/R CMD build --keep-empty-dirs --no-resave-data topdownr StartedAt: 2023-04-11 18:14:07 -0400 (Tue, 11 Apr 2023) EndedAt: 2023-04-11 18:15:13 -0400 (Tue, 11 Apr 2023) EllapsedTime: 65.9 seconds RetCode: 0 Status: OK PackageFile: topdownr_1.21.0.tar.gz PackageFileSize: 1.407 MiB