Package: tracktables Version: 1.33.0 Command: /home/biocbuild/bbs-3.17-bioc/R/bin/R CMD build --keep-empty-dirs --no-resave-data tracktables StartedAt: 2023-04-12 04:24:14 -0400 (Wed, 12 Apr 2023) EndedAt: 2023-04-12 04:24:35 -0400 (Wed, 12 Apr 2023) EllapsedTime: 21.1 seconds RetCode: 0 Status: OK PackageFile: tracktables_1.33.0.tar.gz PackageFileSize: 346.9 KiB