Package: tradeSeq Version: 1.13.0 Command: /home/biocbuild/bbs-3.17-bioc/R/bin/R CMD build --keep-empty-dirs --no-resave-data tradeSeq StartedAt: 2023-04-11 18:14:29 -0400 (Tue, 11 Apr 2023) EndedAt: 2023-04-11 18:21:57 -0400 (Tue, 11 Apr 2023) EllapsedTime: 448.5 seconds RetCode: 0 Status: OK PackageFile: tradeSeq_1.13.0.tar.gz PackageFileSize: 5.088 MiB