Package: tradeSeq Version: 1.13.0 Command: /home/biocbuild/bbs-3.17-bioc/R/bin/R CMD check --install=check:tradeSeq.install-out.txt --library=/home/biocbuild/bbs-3.17-bioc/R/site-library --timings tradeSeq_1.13.0.tar.gz StartedAt: 2023-04-12 00:10:58 -0400 (Wed, 12 Apr 2023) EndedAt: 2023-04-12 00:32:07 -0400 (Wed, 12 Apr 2023) EllapsedTime: 1268.9 seconds RetCode: 1 Status: ERROR CheckDir: tradeSeq.Rcheck Warnings: NA