Package: transcriptR Version: 1.27.0 Command: /home/biocbuild/bbs-3.17-bioc/R/bin/R CMD INSTALL transcriptR StartedAt: 2023-04-12 01:58:36 -0400 (Wed, 12 Apr 2023) EndedAt: 2023-04-12 01:59:41 -0400 (Wed, 12 Apr 2023) EllapsedTime: 65.4 seconds RetCode: 0 Status: OK