Package: triplex Version: 1.39.0 Command: /home/biocbuild/bbs-3.17-bioc/R/bin/R CMD check --install=check:triplex.install-out.txt --library=/home/biocbuild/bbs-3.17-bioc/R/site-library --timings triplex_1.39.0.tar.gz StartedAt: 2023-04-12 00:14:57 -0400 (Wed, 12 Apr 2023) EndedAt: 2023-04-12 00:17:10 -0400 (Wed, 12 Apr 2023) EllapsedTime: 132.7 seconds RetCode: 0 Status: WARNINGS CheckDir: triplex.Rcheck Warnings: 2