Package: triplex Version: 1.39.0 Command: /home/biocbuild/bbs-3.17-bioc/R/bin/R CMD INSTALL triplex StartedAt: 2023-04-11 15:05:59 -0400 (Tue, 11 Apr 2023) EndedAt: 2023-04-11 15:06:14 -0400 (Tue, 11 Apr 2023) EllapsedTime: 15.8 seconds RetCode: 0 Status: OK