git_url: https://git.bioconductor.org/packages/tripr git_branch: devel git_last_commit: 01a97b4 git_last_commit_date: 2023-04-11 05:25:11 -0400 (Tue, 11 Apr 2023) Package: tripr Version: 1.5.3 Maintainer: Nikolaos Pechlivanis MaintainerEmail: inab.bioinformatics at lists.certh.gr