git_url: https://git.bioconductor.org/packages/tximeta git_branch: devel git_last_commit: 5213faf git_last_commit_date: 2023-02-12 23:18:53 -0400 (Sun, 12 Feb 2023) Package: tximeta Version: 1.17.2 Maintainer: Michael Love MaintainerEmail: michaelisaiahlove at gmail.com