Package: uSORT Version: 1.25.0 Command: /home/biocbuild/bbs-3.17-bioc/R/bin/R CMD check --install=check:uSORT.install-out.txt --library=/home/biocbuild/bbs-3.17-bioc/R/site-library --timings uSORT_1.25.0.tar.gz StartedAt: 2023-04-12 10:06:48 -0400 (Wed, 12 Apr 2023) EndedAt: 2023-04-12 10:09:18 -0400 (Wed, 12 Apr 2023) EllapsedTime: 150.4 seconds RetCode: 0 Status: WARNINGS CheckDir: uSORT.Rcheck Warnings: 1