Package: weaver Version: 1.65.0 Command: /home/biocbuild/bbs-3.17-bioc/R/bin/R CMD check --install=check:weaver.install-out.txt --library=/home/biocbuild/bbs-3.17-bioc/R/site-library --timings weaver_1.65.0.tar.gz StartedAt: 2023-04-12 10:11:54 -0400 (Wed, 12 Apr 2023) EndedAt: 2023-04-12 10:12:17 -0400 (Wed, 12 Apr 2023) EllapsedTime: 23.1 seconds RetCode: 0 Status: WARNINGS CheckDir: weaver.Rcheck Warnings: 1