Package: methylationArrayAnalysis Version: 1.24.0 Command: /home/biocbuild/bbs-3.17-bioc/R/bin/R CMD build --keep-empty-dirs --no-resave-data methylationArrayAnalysis StartedAt: 2023-10-13 08:02:50 -0400 (Fri, 13 Oct 2023) EndedAt: 2023-10-13 08:13:33 -0400 (Fri, 13 Oct 2023) EllapsedTime: 642.6 seconds RetCode: 0 Status: OK PackageFile: methylationArrayAnalysis_1.24.0.tar.gz PackageFileSize: 218.2 MiB