Package: ABarray Version: 1.70.0 Command: /Library/Frameworks/R.framework/Resources/bin/R CMD INSTALL ABarray StartedAt: 2024-03-03 15:38:13 -0500 (Sun, 03 Mar 2024) EndedAt: 2024-03-03 15:38:26 -0500 (Sun, 03 Mar 2024) EllapsedTime: 12.9 seconds RetCode: 0 Status: OK