Package: ABarray Version: 1.70.0 Command: /Library/Frameworks/R.framework/Resources/bin/R CMD build --keep-empty-dirs --no-resave-data ABarray StartedAt: 2024-04-15 16:48:14 -0400 (Mon, 15 Apr 2024) EndedAt: 2024-04-15 16:48:50 -0400 (Mon, 15 Apr 2024) EllapsedTime: 36.1 seconds RetCode: 0 Status: OK PackageFile: ABarray_1.70.0.tar.gz PackageFileSize: 685.7 KiB