Package: ADImpute Version: 1.12.0 Command: /Library/Frameworks/R.framework/Resources/bin/R CMD build --keep-empty-dirs --no-resave-data ADImpute StartedAt: 2024-04-15 16:48:14 -0400 (Mon, 15 Apr 2024) EndedAt: 2024-04-15 16:49:12 -0400 (Mon, 15 Apr 2024) EllapsedTime: 57.5 seconds RetCode: 0 Status: OK PackageFile: ADImpute_1.12.0.tar.gz PackageFileSize: 2.117 MiB