Package: ADImpute Version: 1.12.0 Command: /Library/Frameworks/R.framework/Resources/bin/R CMD check --install=check:ADImpute.install-out.txt --library=/Library/Frameworks/R.framework/Resources/library --no-vignettes --timings ADImpute_1.12.0.tar.gz StartedAt: 2024-04-15 23:03:57 -0400 (Mon, 15 Apr 2024) EndedAt: 2024-04-15 23:09:02 -0400 (Mon, 15 Apr 2024) EllapsedTime: 304.9 seconds RetCode: 0 Status: WARNINGS CheckDir: ADImpute.Rcheck Warnings: 1