Package: AGDEX Version: 1.50.0 Command: /home/biocbuild/R/R-4.3.1/bin/R CMD build --keep-empty-dirs --no-resave-data AGDEX StartedAt: 2023-11-01 22:12:51 -0000 (Wed, 01 Nov 2023) EndedAt: 2023-11-01 22:13:21 -0000 (Wed, 01 Nov 2023) EllapsedTime: 30.0 seconds RetCode: 0 Status: OK PackageFile: AGDEX_1.50.0.tar.gz PackageFileSize: 482.8 KiB