Package: AGDEX Version: 1.50.0 Command: /Library/Frameworks/R.framework/Resources/bin/R CMD check --install=check:AGDEX.install-out.txt --library=/Library/Frameworks/R.framework/Resources/library --no-vignettes --timings AGDEX_1.50.0.tar.gz StartedAt: 2024-04-15 23:06:03 -0400 (Mon, 15 Apr 2024) EndedAt: 2024-04-15 23:08:17 -0400 (Mon, 15 Apr 2024) EllapsedTime: 133.9 seconds RetCode: 0 Status: OK CheckDir: AGDEX.Rcheck Warnings: 0