Package: AHMassBank Version: 1.2.1 Command: chmod a+r AHMassBank -R && F:\biocbuild\bbs-3.18-bioc\R\bin\R.exe CMD build --keep-empty-dirs --no-resave-data AHMassBank StartedAt: 2024-04-15 16:54:25 -0400 (Mon, 15 Apr 2024) EndedAt: 2024-04-15 16:55:30 -0400 (Mon, 15 Apr 2024) EllapsedTime: 65.6 seconds RetCode: 0 Status: OK PackageFile: AHMassBank_1.2.1.tar.gz PackageFileSize: 293.6 KiB