Package: APAlyzer Version: 1.16.0 Command: rm -rf APAlyzer.buildbin-libdir && mkdir APAlyzer.buildbin-libdir && /Users/biocbuild/BBS/utils/build-universal.sh APAlyzer_1.16.0.tar.gz /Library/Frameworks/R.framework/Resources/bin/R APAlyzer.buildbin-libdir StartedAt: 2024-03-04 00:29:01 -0500 (Mon, 04 Mar 2024) EndedAt: 2024-03-04 00:30:05 -0500 (Mon, 04 Mar 2024) EllapsedTime: 64.0 seconds RetCode: 0 Status: OK PackageFile: APAlyzer_1.16.0.tgz PackageFileSize: 3.988 MiB