Package: APL Version: 1.6.1 Maintainer: Clemens Kohl MaintainerEmail: kohl.clemens at gmail.com git_url: https://git.bioconductor.org/packages/APL git_branch: RELEASE_3_18 git_last_commit: 56ef8fb git_last_commit_date: 2024-02-09 11:19:44 -0400 (Fri, 09 Feb 2024)