Package: APL Version: 1.5.0 Command: /home/biocbuild/R/R-4.3.1/bin/R CMD check --install=check:APL.install-out.txt --library=/home/biocbuild/R/R-4.3.1/site-library --timings APL_1.5.0.tar.gz StartedAt: 2023-10-19 02:38:40 -0000 (Thu, 19 Oct 2023) EndedAt: 2023-10-19 02:53:12 -0000 (Thu, 19 Oct 2023) EllapsedTime: 871.4 seconds RetCode: 0 Status: OK CheckDir: APL.Rcheck Warnings: 0