Package: APL Version: 1.6.0 Command: /home/biocbuild/R/R-4.3.1/bin/R CMD INSTALL APL StartedAt: 2023-11-01 20:50:29 -0000 (Wed, 01 Nov 2023) EndedAt: 2023-11-01 20:51:31 -0000 (Wed, 01 Nov 2023) EllapsedTime: 62.9 seconds RetCode: 0 Status: OK