Package: APL Version: 1.6.1 Command: /Library/Frameworks/R.framework/Resources/bin/R CMD build --keep-empty-dirs --no-resave-data APL StartedAt: 2024-03-03 15:53:15 -0500 (Sun, 03 Mar 2024) EndedAt: 2024-03-03 15:57:34 -0500 (Sun, 03 Mar 2024) EllapsedTime: 258.9 seconds RetCode: 0 Status: OK PackageFile: APL_1.6.1.tar.gz PackageFileSize: 2.626 MiB