Package: APL Version: 1.6.1 Command: rm -rf APL.buildbin-libdir && mkdir APL.buildbin-libdir && /Users/biocbuild/BBS/utils/build-universal.sh APL_1.6.1.tar.gz /Library/Frameworks/R.framework/Resources/bin/R APL.buildbin-libdir StartedAt: 2024-04-16 10:59:30 -0400 (Tue, 16 Apr 2024) EndedAt: 2024-04-16 11:02:13 -0400 (Tue, 16 Apr 2024) EllapsedTime: 163.3 seconds RetCode: 0 Status: OK PackageFile: APL_1.6.1.tgz PackageFileSize: 3.204 MiB