Package: APL Version: 1.6.1 Command: /Library/Frameworks/R.framework/Resources/bin/R CMD INSTALL APL StartedAt: 2024-04-15 16:18:44 -0400 (Mon, 15 Apr 2024) EndedAt: 2024-04-15 16:20:27 -0400 (Mon, 15 Apr 2024) EllapsedTime: 102.8 seconds RetCode: 0 Status: OK