Package: APL Version: 1.6.1 Command: /home/biocbuild/bbs-3.18-bioc/R/bin/R CMD build --keep-empty-dirs --no-resave-data APL StartedAt: 2024-04-15 15:59:01 -0400 (Mon, 15 Apr 2024) EndedAt: 2024-04-15 16:02:16 -0400 (Mon, 15 Apr 2024) EllapsedTime: 194.4 seconds RetCode: 0 Status: OK PackageFile: APL_1.6.1.tar.gz PackageFileSize: 2.597 MiB