Package: APL Version: 1.6.1 Command: /home/biocbuild/bbs-3.18-bioc/R/bin/R CMD check --install=check:APL.install-out.txt --library=/home/biocbuild/bbs-3.18-bioc/R/site-library --timings APL_1.6.1.tar.gz StartedAt: 2024-04-15 20:04:40 -0400 (Mon, 15 Apr 2024) EndedAt: 2024-04-15 20:14:58 -0400 (Mon, 15 Apr 2024) EllapsedTime: 617.9 seconds RetCode: 0 Status: OK CheckDir: APL.Rcheck Warnings: 0