Package: APL Version: 1.6.1 Command: /home/biocbuild/bbs-3.18-bioc/R/bin/R CMD INSTALL APL StartedAt: 2024-04-15 15:40:51 -0400 (Mon, 15 Apr 2024) EndedAt: 2024-04-15 15:41:39 -0400 (Mon, 15 Apr 2024) EllapsedTime: 48.2 seconds RetCode: 0 Status: OK