Package: APL Version: 1.6.1 Command: rm -rf APL.buildbin-libdir && mkdir APL.buildbin-libdir && F:\biocbuild\bbs-3.18-bioc\R\bin\R.exe CMD INSTALL --build --library=APL.buildbin-libdir APL_1.6.1.tar.gz StartedAt: 2024-04-16 06:39:03 -0400 (Tue, 16 Apr 2024) EndedAt: 2024-04-16 06:40:05 -0400 (Tue, 16 Apr 2024) EllapsedTime: 62.3 seconds RetCode: 0 Status: OK PackageFile: APL_1.6.1.zip PackageFileSize: 1.644 MiB