Package: ARRmNormalization Version: 1.42.0 Command: rm -rf ARRmNormalization.buildbin-libdir && mkdir ARRmNormalization.buildbin-libdir && F:\biocbuild\bbs-3.18-bioc\R\bin\R.exe CMD INSTALL --build --library=ARRmNormalization.buildbin-libdir ARRmNormalization_1.42.0.tar.gz StartedAt: 2024-04-16 06:39:13 -0400 (Tue, 16 Apr 2024) EndedAt: 2024-04-16 06:39:23 -0400 (Tue, 16 Apr 2024) EllapsedTime: 9.6 seconds RetCode: 0 Status: OK PackageFile: ARRmNormalization_1.42.0.zip PackageFileSize: 1.023 MiB